BEGIN:VCALENDAR
VERSION:2.0
PRODID:-// - ECPv6.15.20//NONSGML v1.0//EN
CALSCALE:GREGORIAN
METHOD:PUBLISH
X-ORIGINAL-URL:https://timhazelton.com
X-WR-CALDESC:Events for 
REFRESH-INTERVAL;VALUE=DURATION:PT1H
X-Robots-Tag:noindex
X-PUBLISHED-TTL:PT1H
BEGIN:VTIMEZONE
TZID:America/New_York
BEGIN:DAYLIGHT
TZOFFSETFROM:-0500
TZOFFSETTO:-0400
TZNAME:EDT
DTSTART:20250309T070000
END:DAYLIGHT
BEGIN:STANDARD
TZOFFSETFROM:-0400
TZOFFSETTO:-0500
TZNAME:EST
DTSTART:20251102T060000
END:STANDARD
BEGIN:DAYLIGHT
TZOFFSETFROM:-0500
TZOFFSETTO:-0400
TZNAME:EDT
DTSTART:20260308T070000
END:DAYLIGHT
BEGIN:STANDARD
TZOFFSETFROM:-0400
TZOFFSETTO:-0500
TZNAME:EST
DTSTART:20261101T060000
END:STANDARD
BEGIN:DAYLIGHT
TZOFFSETFROM:-0500
TZOFFSETTO:-0400
TZNAME:EDT
DTSTART:20270314T070000
END:DAYLIGHT
BEGIN:STANDARD
TZOFFSETFROM:-0400
TZOFFSETTO:-0500
TZNAME:EST
DTSTART:20271107T060000
END:STANDARD
END:VTIMEZONE
BEGIN:VEVENT
DTSTART;TZID=America/New_York:20260903T180000
DTEND;TZID=America/New_York:20260903T210000
DTSTAMP:20260421T061219
CREATED:20260419T141841Z
LAST-MODIFIED:20260419T141841Z
UID:371-1788458400-1788469200@timhazelton.com
SUMMARY:Flanagan's Southender
DESCRIPTION:My first time at this very cool venue!
URL:https://timhazelton.com/event/flanagans-southender/
LOCATION:Flanagan’s Southender\, Concord\, NH\, United States
CATEGORIES:Live Shows
END:VEVENT
BEGIN:VEVENT
DTSTART;TZID=America/New_York:20260912T120000
DTEND;TZID=America/New_York:20260912T150000
DTSTAMP:20260421T061219
CREATED:20260124T205222Z
LAST-MODIFIED:20260124T205222Z
UID:346-1789214400-1789225200@timhazelton.com
SUMMARY:Hermit Woods Winery
DESCRIPTION:Almost fall!
URL:https://timhazelton.com/event/hermit-woods-winery-5/
LOCATION:Hermit Woods Winery\, Meredith\, NH
CATEGORIES:Live Shows
END:VEVENT
BEGIN:VEVENT
DTSTART;TZID=America/New_York:20260926T170000
DTEND;TZID=America/New_York:20260926T200000
DTSTAMP:20260421T061219
CREATED:20260419T142142Z
LAST-MODIFIED:20260419T142142Z
UID:374-1790442000-1790452800@timhazelton.com
SUMMARY:Gilmanton Winery
DESCRIPTION:Mmmmm wine!
URL:https://timhazelton.com/event/gilmanton-winery-8/
LOCATION:Gilmanton Winery\, Gilmanton\, NH\, United States
CATEGORIES:Live Shows
END:VEVENT
END:VCALENDAR